BEGIN:VCALENDAR
VERSION:2.0
PRODID:-//wp-events-plugin.com//7.2.3.1//EN
TZID:Europe/Berlin
X-WR-TIMEZONE:Europe/Berlin
BEGIN:VEVENT
UID:21@velutina-army.de
DTSTART;TZID=Europe/Berlin:20250322T100000
DTEND;TZID=Europe/Berlin:20250322T160000
DTSTAMP:20250220T191335Z
URL:https://velutina-army.de/events/22-maerz-2025-fachvortrag-in-nrw-51789
 -lindlar/
SUMMARY:22. März 2025 | Fachvortrag in NRW - 51789 Lindlar
DESCRIPTION:22. März 2025 | Fachvortrag\n\n\n\nVespa Velutina - was könne
 n wir tun?\nThema dieses Fachvortrages ist die aktuelle Situation der Verb
 reitung der Vespa Velutina\, ihrer Lebensgewohnheiten\, ihrer Verhaltenswe
 isen und wie wir Imker unsere Bienenvölker schützen können.\n\nThemen d
 er Veranstaltung:\n\n 	Vespa velutina – Biologie und Besonderheiten\n 	S
 chadpotentiale und rechtlicher Status\n 	Monitoring und Nestsuche\n 	Fachg
 erechte Entfernung von Nestern\n 	Effektiver Schutz der Bienenvölker\n 	A
 rbeitsschutz: Umgang mit Gefahrstoffen\n 	Abschlussdiskussion und Fragen\n
 \nDozent:\n\nHans Jörg Schreyer\nLandesverband Saarländischer Imker\n\n\
 nTermin\n\n\n\n\n\n 	Ristorante Pizzeria Haus Burger\, Linder Str. 30\, 51
 789 Lindlar\n 	22. März 2025\n 	Tagesveranstaltung - Beginn: 10:00 h -- E
 nde: 16:00 h\n 	für alle Altersstufen\n 	Teilnahme kostenlos\, Voranmeldu
 ng erwünscht\, Spenden willkommen\n\n\n\n&nbsp\;\n\nAnmerkung:\n\ndie Tei
 lnahme sollte über die entsprechende Internetseite gebucht werden\, damit
  die Teilnehmerzahl überprüft werden kann.\n\n&nbsp\;\n\nInformationen u
 nd Anmeldung zum Fachvortrag ausschliesslich über\n\n\n\nLink zur Buchung
 \n\n\n\n&nbsp\;
END:VEVENT
BEGIN:VTIMEZONE
TZID:Europe/Berlin
X-LIC-LOCATION:Europe/Berlin
BEGIN:STANDARD
DTSTART:20241027T020000
TZOFFSETFROM:+0200
TZOFFSETTO:+0100
TZNAME:CET
END:STANDARD
END:VTIMEZONE
END:VCALENDAR